BEGIN:VCALENDAR
VERSION:2.0
PRODID:spatie/icalendar-generator
NAME:Optimale Umwelt- und Kosteneffizienz mit Backformen erreichen [iba 202
 5]
X-WR-CALNAME:Optimale Umwelt- und Kosteneffizienz mit Backformen erreichen 
 [iba 2025]
BEGIN:VTIMEZONE
TZID:Europe/Berlin
BEGIN:STANDARD
DTSTART:20241027T030000
TZOFFSETFROM:+0200
TZOFFSETTO:+0100
END:STANDARD
BEGIN:DAYLIGHT
DTSTART:20250330T020000
TZOFFSETFROM:+0100
TZOFFSETTO:+0200
END:DAYLIGHT
BEGIN:STANDARD
DTSTART:20251026T030000
TZOFFSETFROM:+0200
TZOFFSETTO:+0100
END:STANDARD
END:VTIMEZONE
BEGIN:VTIMEZONE
TZID:UTC
BEGIN:STANDARD
DTSTART:20250726T102253
TZOFFSETFROM:+0000
TZOFFSETTO:+0000
END:STANDARD
END:VTIMEZONE
BEGIN:VEVENT
UID:69e8a17d6fd09
DTSTAMP:20260422T102253Z
DTSTART;TZID=Europe/Berlin:20250520T160000
DTEND;TZID=Europe/Berlin:20250520T162000
SUMMARY:Optimale Umwelt- und Kosteneffizienz mit Backformen erreichen [iba 
 2025]
DESCRIPTION:https://universe.iba-tradefair.com/de/e/optimale-umwelt-und-kos
 teneffizienz-mit-backformen-erreichen.63078\n\nErfahren Sie\, wie strategi
 sches Backformen-Management durch Design\, Nachverfolgung und Aufbereitung
  Nachhaltigkeit und Kosteneinsparungen fördert.
LOCATION:Hall 15
END:VEVENT
END:VCALENDAR