BEGIN:VCALENDAR
VERSION:2.0
PRODID:spatie/icalendar-generator
NAME:AMMcare für Bäckereien: Sparen Sie Zeit\, reduzieren Sie Fehler und 
 denken Sie an Brot\, nicht an Gürtel [iba 2025]
X-WR-CALNAME:AMMcare für Bäckereien: Sparen Sie Zeit\, reduzieren Sie Feh
 ler und denken Sie an Brot\, nicht an Gürtel [iba 2025]
BEGIN:VTIMEZONE
TZID:Europe/Berlin
BEGIN:STANDARD
DTSTART:20241027T030000
TZOFFSETFROM:+0200
TZOFFSETTO:+0100
END:STANDARD
BEGIN:DAYLIGHT
DTSTART:20250330T020000
TZOFFSETFROM:+0100
TZOFFSETTO:+0200
END:DAYLIGHT
BEGIN:STANDARD
DTSTART:20251026T030000
TZOFFSETFROM:+0200
TZOFFSETTO:+0100
END:STANDARD
END:VTIMEZONE
BEGIN:VTIMEZONE
TZID:UTC
BEGIN:STANDARD
DTSTART:20250726T085148
TZOFFSETFROM:+0000
TZOFFSETTO:+0000
END:STANDARD
END:VTIMEZONE
BEGIN:VEVENT
UID:69e88c2458c36
DTSTAMP:20260422T085148Z
DTSTART;TZID=Europe/Berlin:20250522T113000
DTEND;TZID=Europe/Berlin:20250522T115000
SUMMARY:AMMcare für Bäckereien: Sparen Sie Zeit\, reduzieren Sie Fehler u
 nd denken Sie an Brot\, nicht an Gürtel [iba 2025]
DESCRIPTION:https://universe.iba-tradefair.com/de/e/ammcare-fuer-baeckereie
 n-sparen-sie-zeit-reduzieren-sie-fehler-und-denken-sie-an-brot-nicht-an-gu
 ertel.63737\n\nDie Verwaltung von Förderbändern in Bäckereien kann übe
 rraschend zeitaufwändig sein - jede Produktionsstufe erfordert ein andere
 s Band mit spezifischen Eigenschaften.
LOCATION:Hall 15
END:VEVENT
END:VCALENDAR