BEGIN:VCALENDAR
VERSION:2.0
PRODID:spatie/icalendar-generator
NAME:Achieving Optimal Environmental and Economic Efficiency with Baking Pa
 ns [iba 2025]
X-WR-CALNAME:Achieving Optimal Environmental and Economic Efficiency with B
 aking Pans [iba 2025]
BEGIN:VTIMEZONE
TZID:Europe/Berlin
BEGIN:STANDARD
DTSTART:20241027T030000
TZOFFSETFROM:+0200
TZOFFSETTO:+0100
END:STANDARD
BEGIN:DAYLIGHT
DTSTART:20250330T020000
TZOFFSETFROM:+0100
TZOFFSETTO:+0200
END:DAYLIGHT
BEGIN:STANDARD
DTSTART:20251026T030000
TZOFFSETFROM:+0200
TZOFFSETTO:+0100
END:STANDARD
END:VTIMEZONE
BEGIN:VTIMEZONE
TZID:UTC
BEGIN:STANDARD
DTSTART:20250726T084542
TZOFFSETFROM:+0000
TZOFFSETTO:+0000
END:STANDARD
END:VTIMEZONE
BEGIN:VEVENT
UID:69e88ab6e2388
DTSTAMP:20260422T084542Z
DTSTART;TZID=Europe/Berlin:20250520T160000
DTEND;TZID=Europe/Berlin:20250520T162000
SUMMARY:Achieving Optimal Environmental and Economic Efficiency with Baking
  Pans [iba 2025]
DESCRIPTION:https://universe.iba-tradefair.com/en/e/achieving-optimal-envir
 onmental-and-economic-efficiency-with-baking-pans.63078\n\nDiscover how st
 rategic baking pan management - through design\, tracking\, and refurbishm
 ent - drives sustainability and cost savings.
LOCATION:Hall 15
END:VEVENT
END:VCALENDAR